Package: SpacePAC Version: 1.45.0 Command: /home/biocbuild/bbs-3.21-bioc/R/bin/R CMD check --install=check:SpacePAC.install-out.txt --library=/home/biocbuild/bbs-3.21-bioc/R/site-library --timings SpacePAC_1.45.0.tar.gz StartedAt: 2025-02-10 02:50:11 -0500 (Mon, 10 Feb 2025) EndedAt: 2025-02-10 02:52:36 -0500 (Mon, 10 Feb 2025) EllapsedTime: 144.2 seconds RetCode: 0 Status: OK CheckDir: SpacePAC.Rcheck Warnings: 0