Package: SpacePAC Version: 1.45.0 Command: /home/biocbuild/bbs-3.21-bioc/R/bin/R CMD INSTALL SpacePAC StartedAt: 2025-02-09 15:50:13 -0500 (Sun, 09 Feb 2025) EndedAt: 2025-02-09 15:50:27 -0500 (Sun, 09 Feb 2025) EllapsedTime: 13.3 seconds RetCode: 0 Status: OK