Package: SpacePAC Version: 1.45.0 Command: rm -rf SpacePAC.buildbin-libdir && mkdir SpacePAC.buildbin-libdir && E:\biocbuild\bbs-3.21-bioc\R\bin\R.exe CMD INSTALL --build --library=SpacePAC.buildbin-libdir SpacePAC_1.45.0.tar.gz StartedAt: 2025-02-13 08:56:32 -0500 (Thu, 13 Feb 2025) EndedAt: 2025-02-13 08:56:49 -0500 (Thu, 13 Feb 2025) EllapsedTime: 17.0 seconds RetCode: 0 Status: OK PackageFile: SpacePAC_1.45.0.zip PackageFileSize: 1018 KiB