Package: Spaniel Version: 1.21.0 Command: /Library/Frameworks/R.framework/Resources/bin/R CMD build --keep-empty-dirs --no-resave-data Spaniel StartedAt: 2025-02-09 17:40:01 -0500 (Sun, 09 Feb 2025) EndedAt: 2025-02-09 17:41:09 -0500 (Sun, 09 Feb 2025) EllapsedTime: 67.7 seconds RetCode: 0 Status: OK PackageFile: Spaniel_1.21.0.tar.gz PackageFileSize: 4.465 MiB