Package: Spaniel Version: 1.21.0 Command: /Library/Frameworks/R.framework/Resources/bin/R CMD check --install=check:Spaniel.install-out.txt --library=/Library/Frameworks/R.framework/Resources/library --no-vignettes --timings Spaniel_1.21.0.tar.gz StartedAt: 2025-02-09 21:28:38 -0500 (Sun, 09 Feb 2025) EndedAt: 2025-02-09 21:30:15 -0500 (Sun, 09 Feb 2025) EllapsedTime: 97.1 seconds RetCode: 0 Status: OK CheckDir: Spaniel.Rcheck Warnings: 0