Package: Spaniel Version: 1.21.0 Command: /Library/Frameworks/R.framework/Resources/bin/R CMD build --keep-empty-dirs --no-resave-data Spaniel StartedAt: 2025-02-12 18:24:23 -0500 (Wed, 12 Feb 2025) EndedAt: 2025-02-12 18:27:37 -0500 (Wed, 12 Feb 2025) EllapsedTime: 194.2 seconds RetCode: 0 Status: OK PackageFile: Spaniel_1.21.0.tar.gz PackageFileSize: 4.454 MiB