Package: Spaniel Version: 1.21.0 Command: /home/biocbuild/bbs-3.21-bioc/R/bin/R CMD check --install=check:Spaniel.install-out.txt --library=/home/biocbuild/bbs-3.21-bioc/R/site-library --timings Spaniel_1.21.0.tar.gz StartedAt: 2025-02-10 02:50:15 -0500 (Mon, 10 Feb 2025) EndedAt: 2025-02-10 02:57:28 -0500 (Mon, 10 Feb 2025) EllapsedTime: 432.4 seconds RetCode: 0 Status: OK CheckDir: Spaniel.Rcheck Warnings: 0