Package: Spaniel Version: 1.21.0 Command: /home/biocbuild/bbs-3.21-bioc/R/bin/R CMD INSTALL Spaniel StartedAt: 2025-02-09 15:53:48 -0500 (Sun, 09 Feb 2025) EndedAt: 2025-02-09 15:54:27 -0500 (Sun, 09 Feb 2025) EllapsedTime: 39.2 seconds RetCode: 0 Status: OK