Package: Spaniel Version: 1.21.0 Command: rm -rf Spaniel.buildbin-libdir && mkdir Spaniel.buildbin-libdir && E:\biocbuild\bbs-3.21-bioc\R\bin\R.exe CMD INSTALL --build --library=Spaniel.buildbin-libdir Spaniel_1.21.0.tar.gz StartedAt: 2025-02-13 08:56:33 -0500 (Thu, 13 Feb 2025) EndedAt: 2025-02-13 08:57:24 -0500 (Thu, 13 Feb 2025) EllapsedTime: 50.1 seconds RetCode: 0 Status: OK PackageFile: Spaniel_1.21.0.zip PackageFileSize: 3.78 MiB