Package: Spaniel Version: 1.21.0 Command: E:\biocbuild\bbs-3.21-bioc\R\bin\R.exe CMD check --no-multiarch --install=check:Spaniel.install-out.txt --library=E:\biocbuild\bbs-3.21-bioc\R\library --no-vignettes --timings Spaniel_1.21.0.tar.gz StartedAt: 2025-02-10 05:38:53 -0500 (Mon, 10 Feb 2025) EndedAt: 2025-02-10 05:44:07 -0500 (Mon, 10 Feb 2025) EllapsedTime: 313.6 seconds RetCode: 0 Status: OK CheckDir: Spaniel.Rcheck Warnings: 0