Package: Spaniel Version: 1.21.0 Command: E:\biocbuild\bbs-3.21-bioc\R\bin\R.exe CMD INSTALL Spaniel StartedAt: 2025-02-09 16:51:41 -0500 (Sun, 09 Feb 2025) EndedAt: 2025-02-09 16:52:35 -0500 (Sun, 09 Feb 2025) EllapsedTime: 53.3 seconds RetCode: 0 Status: OK