Package: SparseArray Version: 1.7.5 Command: /Library/Frameworks/R.framework/Resources/bin/R CMD check --install=check:SparseArray.install-out.txt --library=/Library/Frameworks/R.framework/Resources/library --no-vignettes --timings SparseArray_1.7.5.tar.gz StartedAt: 2025-02-09 21:29:04 -0500 (Sun, 09 Feb 2025) EndedAt: 2025-02-09 21:30:25 -0500 (Sun, 09 Feb 2025) EllapsedTime: 80.9 seconds RetCode: 0 Status: OK CheckDir: SparseArray.Rcheck Warnings: 0