Package: SparseArray Version: 1.7.5 Command: rm -rf SparseArray.buildbin-libdir && mkdir SparseArray.buildbin-libdir && /Users/biocbuild/BBS/utils/build-universal.sh SparseArray_1.7.5.tar.gz /Library/Frameworks/R.framework/Resources/bin/R SparseArray.buildbin-libdir StartedAt: 2025-02-10 01:17:55 -0500 (Mon, 10 Feb 2025) EndedAt: 2025-02-10 01:18:47 -0500 (Mon, 10 Feb 2025) EllapsedTime: 52.0 seconds RetCode: 0 Status: OK PackageFile: SparseArray_1.7.5.tgz PackageFileSize: 1.79 MiB