Package: SparseArray Version: 1.7.5 Command: /Library/Frameworks/R.framework/Resources/bin/R CMD INSTALL SparseArray StartedAt: 2025-02-09 15:07:23 -0500 (Sun, 09 Feb 2025) EndedAt: 2025-02-09 15:07:57 -0500 (Sun, 09 Feb 2025) EllapsedTime: 33.3 seconds RetCode: 0 Status: OK