Package: SparseArray Version: 1.7.5 Command: rm -rf SparseArray.buildbin-libdir && mkdir SparseArray.buildbin-libdir && E:\biocbuild\bbs-3.21-bioc\R\bin\R.exe CMD INSTALL --build --library=SparseArray.buildbin-libdir SparseArray_1.7.5.tar.gz StartedAt: 2025-02-10 08:46:10 -0500 (Mon, 10 Feb 2025) EndedAt: 2025-02-10 08:49:02 -0500 (Mon, 10 Feb 2025) EllapsedTime: 172.1 seconds RetCode: 0 Status: OK PackageFile: SparseArray_1.7.5.zip PackageFileSize: 1.891 MiB