Package: SparseArray Version: 1.7.5 Command: chmod a+r SparseArray -R && E:\biocbuild\bbs-3.21-bioc\R\bin\R.exe CMD build --keep-empty-dirs --no-resave-data SparseArray StartedAt: 2025-02-09 21:47:26 -0500 (Sun, 09 Feb 2025) EndedAt: 2025-02-09 21:49:28 -0500 (Sun, 09 Feb 2025) EllapsedTime: 122.9 seconds RetCode: 0 Status: OK PackageFile: SparseArray_1.7.5.tar.gz PackageFileSize: 455.5 KiB