Package: SparseArray Version: 1.7.5 Command: E:\biocbuild\bbs-3.21-bioc\R\bin\R.exe CMD check --no-multiarch --install=check:SparseArray.install-out.txt --library=E:\biocbuild\bbs-3.21-bioc\R\library --no-vignettes --timings SparseArray_1.7.5.tar.gz StartedAt: 2025-02-10 05:39:19 -0500 (Mon, 10 Feb 2025) EndedAt: 2025-02-10 05:44:59 -0500 (Mon, 10 Feb 2025) EllapsedTime: 340.1 seconds RetCode: 0 Status: WARNINGS CheckDir: SparseArray.Rcheck Warnings: 1