Package: SparseArray Version: 1.7.5 Command: E:\biocbuild\bbs-3.21-bioc\R\bin\R.exe CMD INSTALL SparseArray StartedAt: 2025-02-09 15:31:49 -0500 (Sun, 09 Feb 2025) EndedAt: 2025-02-09 15:35:45 -0500 (Sun, 09 Feb 2025) EllapsedTime: 235.6 seconds RetCode: 0 Status: OK