Package: SpatialCPie Version: 1.23.0 Command: rm -rf SpatialCPie.buildbin-libdir && mkdir SpatialCPie.buildbin-libdir && /Users/biocbuild/BBS/utils/build-universal.sh SpatialCPie_1.23.0.tar.gz /Library/Frameworks/R.framework/Resources/bin/R SpatialCPie.buildbin-libdir StartedAt: 2025-02-03 23:07:34 -0500 (Mon, 03 Feb 2025) EndedAt: 2025-02-03 23:07:45 -0500 (Mon, 03 Feb 2025) EllapsedTime: 11.2 seconds RetCode: 0 Status: OK PackageFile: SpatialCPie_1.23.0.tgz PackageFileSize: 1.635 MiB