Package: SpatialCPie Version: 1.23.0 Command: /home/biocbuild/R/R/bin/R CMD check --install=check:SpatialCPie.install-out.txt --library=/home/biocbuild/R/R/site-library --no-vignettes --timings SpatialCPie_1.23.0.tar.gz StartedAt: 2025-01-28 15:34:19 -0000 (Tue, 28 Jan 2025) EndedAt: 2025-01-28 15:37:54 -0000 (Tue, 28 Jan 2025) EllapsedTime: 215.2 seconds RetCode: 0 Status: OK CheckDir: SpatialCPie.Rcheck Warnings: 0