Package: SpatialCPie Version: 1.23.0 Command: rm -rf SpatialCPie.buildbin-libdir && mkdir SpatialCPie.buildbin-libdir && /Users/biocbuild/BBS/utils/build-universal.sh SpatialCPie_1.23.0.tar.gz /Library/Frameworks/R.framework/Resources/bin/R SpatialCPie.buildbin-libdir StartedAt: 2025-02-10 01:18:00 -0500 (Mon, 10 Feb 2025) EndedAt: 2025-02-10 01:18:38 -0500 (Mon, 10 Feb 2025) EllapsedTime: 38.0 seconds RetCode: 0 Status: OK PackageFile: SpatialCPie_1.23.0.tgz PackageFileSize: 1.634 MiB