Package: SpatialCPie Version: 1.23.0 Command: /Library/Frameworks/R.framework/Resources/bin/R CMD build --keep-empty-dirs --no-resave-data SpatialCPie StartedAt: 2025-02-09 18:32:46 -0500 (Sun, 09 Feb 2025) EndedAt: 2025-02-09 18:33:42 -0500 (Sun, 09 Feb 2025) EllapsedTime: 56.0 seconds RetCode: 0 Status: OK PackageFile: SpatialCPie_1.23.0.tar.gz PackageFileSize: 1.557 MiB