Package: SpatialCPie Version: 1.23.0 Command: /Library/Frameworks/R.framework/Resources/bin/R CMD check --install=check:SpatialCPie.install-out.txt --library=/Library/Frameworks/R.framework/Resources/library --no-vignettes --timings SpatialCPie_1.23.0.tar.gz StartedAt: 2025-02-09 23:47:13 -0500 (Sun, 09 Feb 2025) EndedAt: 2025-02-09 23:50:30 -0500 (Sun, 09 Feb 2025) EllapsedTime: 197.0 seconds RetCode: 0 Status: OK CheckDir: SpatialCPie.Rcheck Warnings: 0