Package: SpatialCPie Version: 1.23.0 Command: /Library/Frameworks/R.framework/Resources/bin/R CMD INSTALL SpatialCPie StartedAt: 2025-02-03 15:29:41 -0500 (Mon, 03 Feb 2025) EndedAt: 2025-02-03 15:30:16 -0500 (Mon, 03 Feb 2025) EllapsedTime: 34.8 seconds RetCode: 0 Status: OK