Package: SpatialCPie Version: 1.23.0 Command: /home/biocbuild/bbs-3.21-bioc/R/bin/R CMD build --keep-empty-dirs --no-resave-data SpatialCPie StartedAt: 2025-02-03 19:30:58 -0500 (Mon, 03 Feb 2025) EndedAt: 2025-02-03 19:31:46 -0500 (Mon, 03 Feb 2025) EllapsedTime: 48.0 seconds RetCode: 0 Status: OK PackageFile: SpatialCPie_1.23.0.tar.gz PackageFileSize: 991 KiB