Package: SpatialCPie Version: 1.23.0 Command: /home/biocbuild/bbs-3.21-bioc/R/bin/R CMD check --install=check:SpatialCPie.install-out.txt --library=/home/biocbuild/bbs-3.21-bioc/R/site-library --timings SpatialCPie_1.23.0.tar.gz StartedAt: 2025-02-10 02:52:34 -0500 (Mon, 10 Feb 2025) EndedAt: 2025-02-10 02:55:45 -0500 (Mon, 10 Feb 2025) EllapsedTime: 191.2 seconds RetCode: 0 Status: OK CheckDir: SpatialCPie.Rcheck Warnings: 0