Package: SpatialCPie Version: 1.23.0 Command: /home/biocbuild/bbs-3.21-bioc/R/bin/R CMD INSTALL SpatialCPie StartedAt: 2025-02-03 15:26:10 -0500 (Mon, 03 Feb 2025) EndedAt: 2025-02-03 15:26:34 -0500 (Mon, 03 Feb 2025) EllapsedTime: 23.6 seconds RetCode: 0 Status: OK