Package: SpatialCPie Version: 1.23.0 Command: rm -rf SpatialCPie.buildbin-libdir && mkdir SpatialCPie.buildbin-libdir && E:\biocbuild\bbs-3.21-bioc\R\bin\R.exe CMD INSTALL --build --library=SpatialCPie.buildbin-libdir SpatialCPie_1.23.0.tar.gz StartedAt: 2025-02-04 08:59:30 -0500 (Tue, 04 Feb 2025) EndedAt: 2025-02-04 09:00:01 -0500 (Tue, 04 Feb 2025) EllapsedTime: 31.0 seconds RetCode: 0 Status: OK PackageFile: SpatialCPie_1.23.0.zip PackageFileSize: 1.061 MiB