Package: SpatialCPie Version: 1.23.0 Command: E:\biocbuild\bbs-3.21-bioc\R\bin\R.exe CMD INSTALL SpatialCPie StartedAt: 2025-02-03 16:22:39 -0500 (Mon, 03 Feb 2025) EndedAt: 2025-02-03 16:23:17 -0500 (Mon, 03 Feb 2025) EllapsedTime: 37.9 seconds RetCode: 0 Status: OK