Package: SpatialExperiment Version: 1.17.0 Command: /home/biocbuild/R/R/bin/R CMD build --keep-empty-dirs --no-resave-data SpatialExperiment StartedAt: 2025-01-29 02:33:05 -0000 (Wed, 29 Jan 2025) EndedAt: 2025-01-29 02:34:36 -0000 (Wed, 29 Jan 2025) EllapsedTime: 91.1 seconds RetCode: 0 Status: OK PackageFile: SpatialExperiment_1.17.0.tar.gz PackageFileSize: 3.696 MiB