Package: SpatialExperiment Version: 1.17.0 Command: /home/biocbuild/R/R/bin/R CMD INSTALL SpatialExperiment StartedAt: 2025-01-29 19:48:40 -0000 (Wed, 29 Jan 2025) EndedAt: 2025-01-29 19:49:14 -0000 (Wed, 29 Jan 2025) EllapsedTime: 34.0 seconds RetCode: 0 Status: OK