############################################################################## ############################################################################## ### ### Running command: ### ### /Library/Frameworks/R.framework/Resources/bin/R CMD build --keep-empty-dirs --no-resave-data SpatialExperiment ### ############################################################################## ############################################################################## * checking for file ‘SpatialExperiment/DESCRIPTION’ ... OK * preparing ‘SpatialExperiment’: * checking DESCRIPTION meta-information ... OK * installing the package to build vignettes * creating vignettes ... OK * checking for LF line-endings in source and make files and shell scripts * checking for empty or unneeded directories NB: this package now depends on R (>= 4.1.0) WARNING: Added dependency on R >= 4.1.0 because package code uses the pipe |> or function shorthand \(...) syntax added in R 4.1.0. File(s) using such syntax: ‘SpatialImage-utils.R’ ‘Validity.R’ ‘imgData-methods.R’ * building ‘SpatialExperiment_1.17.0.tar.gz’