Package: SpatialExperiment Version: 1.17.0 Command: /Library/Frameworks/R.framework/Resources/bin/R CMD check --install=check:SpatialExperiment.install-out.txt --library=/Library/Frameworks/R.framework/Resources/library --no-vignettes --timings SpatialExperiment_1.17.0.tar.gz StartedAt: 2025-02-04 23:28:39 -0500 (Tue, 04 Feb 2025) EndedAt: 2025-02-04 23:32:48 -0500 (Tue, 04 Feb 2025) EllapsedTime: 249.2 seconds RetCode: 0 Status: OK CheckDir: SpatialExperiment.Rcheck Warnings: 0