Package: SpatialExperiment Version: 1.17.0 Command: /Library/Frameworks/R.framework/Resources/bin/R CMD INSTALL SpatialExperiment StartedAt: 2025-02-04 15:12:54 -0500 (Tue, 04 Feb 2025) EndedAt: 2025-02-04 15:13:25 -0500 (Tue, 04 Feb 2025) EllapsedTime: 31.7 seconds RetCode: 0 Status: OK