Package: SpatialExperiment Version: 1.17.0 Command: /home/biocbuild/bbs-3.21-bioc/R/bin/R CMD build --keep-empty-dirs --no-resave-data SpatialExperiment StartedAt: 2025-02-04 19:20:32 -0500 (Tue, 04 Feb 2025) EndedAt: 2025-02-04 19:21:37 -0500 (Tue, 04 Feb 2025) EllapsedTime: 65.0 seconds RetCode: 0 Status: OK PackageFile: SpatialExperiment_1.17.0.tar.gz PackageFileSize: 5.156 MiB