Package: SpatialExperiment Version: 1.17.0 Command: /home/biocbuild/bbs-3.21-bioc/R/bin/R CMD check --install=check:SpatialExperiment.install-out.txt --library=/home/biocbuild/bbs-3.21-bioc/R/site-library --timings SpatialExperiment_1.17.0.tar.gz StartedAt: 2025-02-05 03:00:11 -0500 (Wed, 05 Feb 2025) EndedAt: 2025-02-05 03:04:34 -0500 (Wed, 05 Feb 2025) EllapsedTime: 263.2 seconds RetCode: 0 Status: OK CheckDir: SpatialExperiment.Rcheck Warnings: 0