Package: SpatialExperiment Version: 1.17.0 Command: rm -rf SpatialExperiment.buildbin-libdir && mkdir SpatialExperiment.buildbin-libdir && E:\biocbuild\bbs-3.21-bioc\R\bin\R.exe CMD INSTALL --build --library=SpatialExperiment.buildbin-libdir SpatialExperiment_1.17.0.tar.gz StartedAt: 2025-02-05 08:58:44 -0500 (Wed, 05 Feb 2025) EndedAt: 2025-02-05 09:01:28 -0500 (Wed, 05 Feb 2025) EllapsedTime: 164.7 seconds RetCode: 0 Status: OK PackageFile: SpatialExperiment_1.17.0.zip PackageFileSize: 5.56 MiB