Package: SpatialExperiment Version: 1.17.0 Command: E:\biocbuild\bbs-3.21-bioc\R\bin\R.exe CMD INSTALL SpatialExperiment StartedAt: 2025-02-04 15:55:32 -0500 (Tue, 04 Feb 2025) EndedAt: 2025-02-04 15:56:58 -0500 (Tue, 04 Feb 2025) EllapsedTime: 86.9 seconds RetCode: 0 Status: OK