Package: SpatialExperimentIO Version: 0.99.7 Command: /Library/Frameworks/R.framework/Resources/bin/R CMD check --install=check:SpatialExperimentIO.install-out.txt --library=/Library/Frameworks/R.framework/Resources/library --no-vignettes --timings SpatialExperimentIO_0.99.7.tar.gz StartedAt: 2025-02-09 21:30:15 -0500 (Sun, 09 Feb 2025) EndedAt: 2025-02-09 21:31:40 -0500 (Sun, 09 Feb 2025) EllapsedTime: 84.9 seconds RetCode: 0 Status: OK CheckDir: SpatialExperimentIO.Rcheck Warnings: 0