Package: SpatialExperimentIO Version: 0.99.7 Command: /Library/Frameworks/R.framework/Resources/bin/R CMD INSTALL SpatialExperimentIO StartedAt: 2025-02-12 15:14:19 -0500 (Wed, 12 Feb 2025) EndedAt: 2025-02-12 15:14:32 -0500 (Wed, 12 Feb 2025) EllapsedTime: 12.7 seconds RetCode: 0 Status: OK