Package: SpatialExperimentIO Version: 0.99.7 Command: /home/biocbuild/bbs-3.21-bioc/R/bin/R CMD build --keep-empty-dirs --no-resave-data SpatialExperimentIO StartedAt: 2025-02-12 19:19:16 -0500 (Wed, 12 Feb 2025) EndedAt: 2025-02-12 19:20:08 -0500 (Wed, 12 Feb 2025) EllapsedTime: 52.0 seconds RetCode: 0 Status: OK PackageFile: SpatialExperimentIO_0.99.7.tar.gz PackageFileSize: 608.1 KiB