Package: SpatialExperimentIO Version: 0.99.7 Command: chmod a+r SpatialExperimentIO -R && E:\biocbuild\bbs-3.21-bioc\R\bin\R.exe CMD build --keep-empty-dirs --no-resave-data SpatialExperimentIO StartedAt: 2025-02-09 21:48:39 -0500 (Sun, 09 Feb 2025) EndedAt: 2025-02-09 21:49:53 -0500 (Sun, 09 Feb 2025) EllapsedTime: 73.7 seconds RetCode: 0 Status: OK PackageFile: SpatialExperimentIO_0.99.7.tar.gz PackageFileSize: 608.3 KiB