Package: SpatialFeatureExperiment Version: 1.9.9 Maintainer: Lambda Moses MaintainerEmail: dl3764 at columbia.edu git_url: https://git.bioconductor.org/packages/SpatialFeatureExperiment git_branch: devel git_last_commit: eff8cee git_last_commit_date: 2025-02-11 23:09:21 -0500 (Tue, 11 Feb 2025)