Package: SpatialFeatureExperiment Version: 1.9.8 Command: /Library/Frameworks/R.framework/Resources/bin/R CMD INSTALL SpatialFeatureExperiment StartedAt: 2025-02-09 15:21:18 -0500 (Sun, 09 Feb 2025) EndedAt: 2025-02-09 15:21:39 -0500 (Sun, 09 Feb 2025) EllapsedTime: 20.8 seconds RetCode: 0 Status: OK