Package: SpatialFeatureExperiment Version: 1.9.8 Command: /Library/Frameworks/R.framework/Resources/bin/R CMD build --keep-empty-dirs --no-resave-data SpatialFeatureExperiment StartedAt: 2025-02-09 18:33:17 -0500 (Sun, 09 Feb 2025) EndedAt: 2025-02-09 18:35:55 -0500 (Sun, 09 Feb 2025) EllapsedTime: 157.5 seconds RetCode: 0 Status: OK PackageFile: SpatialFeatureExperiment_1.9.8.tar.gz PackageFileSize: 1.812 MiB