Package: SpatialFeatureExperiment Version: 1.9.8 Command: /home/biocbuild/bbs-3.21-bioc/R/bin/R CMD check --install=check:SpatialFeatureExperiment.install-out.txt --library=/home/biocbuild/bbs-3.21-bioc/R/site-library --timings SpatialFeatureExperiment_1.9.8.tar.gz StartedAt: 2025-02-10 02:53:52 -0500 (Mon, 10 Feb 2025) EndedAt: 2025-02-10 03:14:36 -0500 (Mon, 10 Feb 2025) EllapsedTime: 1244.6 seconds RetCode: 0 Status: OK CheckDir: SpatialFeatureExperiment.Rcheck Warnings: 0