Package: SpatialFeatureExperiment Version: 1.9.8 Command: rm -rf SpatialFeatureExperiment.buildbin-libdir && mkdir SpatialFeatureExperiment.buildbin-libdir && E:\biocbuild\bbs-3.21-bioc\R\bin\R.exe CMD INSTALL --build --library=SpatialFeatureExperiment.buildbin-libdir SpatialFeatureExperiment_1.9.8.tar.gz StartedAt: 2025-02-10 08:46:38 -0500 (Mon, 10 Feb 2025) EndedAt: 2025-02-10 09:00:00 -0500 (Mon, 10 Feb 2025) EllapsedTime: 801.9 seconds RetCode: 0 Status: OK PackageFile: SpatialFeatureExperiment_1.9.8.zip PackageFileSize: 2.684 MiB