Package: SpatialFeatureExperiment Version: 1.9.8 Command: chmod a+r SpatialFeatureExperiment -R && E:\biocbuild\bbs-3.21-bioc\R\bin\R.exe CMD build --keep-empty-dirs --no-resave-data SpatialFeatureExperiment StartedAt: 2025-02-09 21:49:13 -0500 (Sun, 09 Feb 2025) EndedAt: 2025-02-09 21:53:35 -0500 (Sun, 09 Feb 2025) EllapsedTime: 261.2 seconds RetCode: 0 Status: OK PackageFile: SpatialFeatureExperiment_1.9.8.tar.gz PackageFileSize: 1.584 MiB