Package: SpeCond Version: 1.61.0 Command: /home/biocbuild/R/R/bin/R CMD build --keep-empty-dirs --no-resave-data SpeCond StartedAt: 2025-01-28 02:40:00 -0000 (Tue, 28 Jan 2025) EndedAt: 2025-01-28 02:41:05 -0000 (Tue, 28 Jan 2025) EllapsedTime: 65.0 seconds RetCode: 0 Status: OK PackageFile: SpeCond_1.61.0.tar.gz PackageFileSize: 1.697 MiB