Package: SpeCond Version: 1.61.0 Command: /Library/Frameworks/R.framework/Resources/bin/R CMD build --keep-empty-dirs --no-resave-data SpeCond StartedAt: 2025-02-12 18:26:37 -0500 (Wed, 12 Feb 2025) EndedAt: 2025-02-12 18:27:32 -0500 (Wed, 12 Feb 2025) EllapsedTime: 54.8 seconds RetCode: 0 Status: OK PackageFile: SpeCond_1.61.0.tar.gz PackageFileSize: 1.699 MiB